BEGIN:VCALENDAR
VERSION:2.0
PRODID:-//MB 300 SL Motorsportclub e.V. - ECPv6.15.20//NONSGML v1.0//EN
CALSCALE:GREGORIAN
METHOD:PUBLISH
X-WR-CALNAME:MB 300 SL Motorsportclub e.V.
X-ORIGINAL-URL:https://mb300sl-motorsportclub.com
X-WR-CALDESC:Veranstaltungen für MB 300 SL Motorsportclub e.V.
REFRESH-INTERVAL;VALUE=DURATION:PT1H
X-Robots-Tag:noindex
X-PUBLISHED-TTL:PT1H
BEGIN:VTIMEZONE
TZID:Europe/Berlin
BEGIN:DAYLIGHT
TZOFFSETFROM:+0100
TZOFFSETTO:+0200
TZNAME:CEST
DTSTART:20230326T010000
END:DAYLIGHT
BEGIN:STANDARD
TZOFFSETFROM:+0200
TZOFFSETTO:+0100
TZNAME:CET
DTSTART:20231029T010000
END:STANDARD
BEGIN:DAYLIGHT
TZOFFSETFROM:+0100
TZOFFSETTO:+0200
TZNAME:CEST
DTSTART:20240331T010000
END:DAYLIGHT
BEGIN:STANDARD
TZOFFSETFROM:+0200
TZOFFSETTO:+0100
TZNAME:CET
DTSTART:20241027T010000
END:STANDARD
BEGIN:DAYLIGHT
TZOFFSETFROM:+0100
TZOFFSETTO:+0200
TZNAME:CEST
DTSTART:20250330T010000
END:DAYLIGHT
BEGIN:STANDARD
TZOFFSETFROM:+0200
TZOFFSETTO:+0100
TZNAME:CET
DTSTART:20251026T010000
END:STANDARD
BEGIN:DAYLIGHT
TZOFFSETFROM:+0100
TZOFFSETTO:+0200
TZNAME:CEST
DTSTART:20260329T010000
END:DAYLIGHT
BEGIN:STANDARD
TZOFFSETFROM:+0200
TZOFFSETTO:+0100
TZNAME:CET
DTSTART:20261025T010000
END:STANDARD
END:VTIMEZONE
BEGIN:VEVENT
DTSTART;VALUE=DATE:20250609
DTEND;VALUE=DATE:20250616
DTSTAMP:20260419T164904
CREATED:20161013T163126Z
LAST-MODIFIED:20240617T162737Z
UID:146-1749427200-1750031999@mb300sl-motorsportclub.com
SUMMARY:Mille Miglia 2025
DESCRIPTION:Die Mille Miglia\, also die Tausend Meilen\, zählt zu den bekanntesten Autorennen der Welt und ist ein regelmäßig stattfindendes Event für Oldtimerbesitzer und -fans in Norditalien. Start und Ziel finden traditionell in Brescia statt und die Etappen führen über bekannte Städte wie Bergamo\, Siena und Rom. \nQuelle: Webseite https://1000miglia.it/en/
URL:https://mb300sl-motorsportclub.com/event/mille-miglia/
CATEGORIES:Rally
END:VEVENT
BEGIN:VEVENT
DTSTART;VALUE=DATE:20250523
DTEND;VALUE=DATE:20250526
DTSTAMP:20260419T164904
CREATED:20240617T155733Z
LAST-MODIFIED:20240617T162754Z
UID:204-1747958400-1748217599@mb300sl-motorsportclub.com
SUMMARY:Concorso D'Eleganza Villa D'Este 2025
DESCRIPTION:WE WANT TO SAY A BIG THANK YOU\n– AND TOGETHER WITH YOU\, WE’RE ALREADY LOOKING FORWARD TO THE CONCORSO D’ELEGANZA VILLA D’ESTE 2025.\nSome fantastic days are almost impossible to describe in words because they are so multifaceted and unique. Magic moments of extraordinary intensity are generated when so much international automobile excellence congregates at incomparable places\, in the company of passionate owners\, collectors\, experts and aficionados. This is the case at the Concorso d’Eleganza Villa d’Este and it was an incredibly special time for us all. \nMore than 12\,000 enthusiastic visitors came along to celebrate the Concorso d’Eleganza Villa d’Este – Il Festival on the Sunday in the park of Villa Erba against the backdrop of glorious weather. We were just as delighted by the crowds as by the numerous winners. Once again\, it was our honour to award two of the world’s most prestigious prizes: the Coppa d’Oro Villa d’Este and the Trofeo BMW Group Best of Show by the Jury. Furthermore\, we were privileged to confer awards on the best Historic Cars in eight award classes and bestow a host of awards for outstanding achievements and presentations. \nPerhaps you’d like to join us in a nostalgic review of this rich and exciting world of images? Or maybe your particular indulgence is to feast your eyes at leisure on the winners of the Concorso d’Eleganza Villa d’Este once more? If this is your penchant\, please take a look round this page – or visit our channels at Instagram and Facebook. There we will show you everything that makes the Concorso d’Eleganza Villa d’Este so unique and vibrant as a cultural automobile event of global significance. One highlight is the fact that all the vehicles are not simply stationary exhibits. They are presented to the public audience as rolling icons under open skies. \nWe will keep you updated with all the latest news on this page. After all\, now that this year’s Concorso d’Eleganza Villa d’Este has come to an end\, we are already working behind the scenes to make preparations for the forthcoming edition next year. If you would like to find out more\, you can subscribe HERE to our exclusive newsletter. Then you will soon receive more information from us. \nWe very much look forward to welcoming you. \nOur very warmest greetings\, \nYours\, \nConcorso d’Eleganza Villa d’Este Team. \nSource: Website https://www.concorsodeleganzavilladeste.com/
URL:https://mb300sl-motorsportclub.com/event/concorso-deleganza-villa-deste-2025/
CATEGORIES:Concours d'Elégance
END:VEVENT
BEGIN:VEVENT
DTSTART;VALUE=DATE:20250409
DTEND;VALUE=DATE:20250414
DTSTAMP:20260419T164904
CREATED:20161013T134015Z
LAST-MODIFIED:20240617T162830Z
UID:139-1744156800-1744588799@mb300sl-motorsportclub.com
SUMMARY:Techno-Classica Essen 2025
DESCRIPTION:Techno Classica Essen 2025\nMit mehr als 1250 Ausstellern aus mehr als 30 verschiedenen Ländern auf der ganzen Welt ist die Techno Classica Essen 2025 die Weltmesse für Oldtimers und prestigeträchtige Autos\, Motorräder\, Motorsport\, Ersatzteile und Restaurierung. Jedes Jahr gibt es mehr als 188.000 Besucher und mehr als 2.700 Autos zu kaufen. Für den echten Enthusiasten ist diese Messe eine\, die man sich nicht entgehen lassen sollte. \nEine der Hauptattraktionen der Techno Classica Essen 2025 sind die anwesenden internationalen Oldtimer-Clubs. Während der Messe können Sie die Oldtimer-Clubs kennenlernen und ihre Mitglieder und Autos sehen. Der Hauptgrund\, warum diese Clubs präsent sind\, sind politische Gründe. Während der Techno Classica Essen können sie zusammenkommen und ihre politischen Pläne zentral koordinieren. \nQuelle: Webseite https://www.erclassics.de/techno-classica-essen-2025/
URL:https://mb300sl-motorsportclub.com/event/techno-classica-essen/
LOCATION:MESSE ESSEN GmbH\, Norbertstrasse 2\, Essen\, 45131\, Deutschland
CATEGORIES:Messe
ATTACH;FMTTYPE=image/gif:https://mb300sl-motorsportclub.com/wp-content/uploads/2016/10/techno_classica.gif
END:VEVENT
BEGIN:VEVENT
DTSTART;VALUE=DATE:20250227
DTEND;VALUE=DATE:20250303
DTSTAMP:20260419T164905
CREATED:20161013T131807Z
LAST-MODIFIED:20240617T162852Z
UID:118-1740614400-1740959999@mb300sl-motorsportclub.com
SUMMARY:Retro Classics Stuttgart 2025
DESCRIPTION:ÜBER DIE MESSE FÜR FAHRKULTUR\n\n\nRETRO CLASSICS®\, der weltweit größte und schönste Treffpunkt für Liebhaber automobiler Legenden aus längst vergangenen Tagen ebenso wie Oldtimer-Preziosen von morgen. \nAussteller aus vielen Teilen der Welt präsentieren in einem extravaganten Ambiente kostbare und sehenswerte Raritäten aus allen Epochen der Automobilgeschichte. \nErleben Sie Nostalgie und Eleganz mit allem\, was dazu gehört: erstklassige Sonderschauen\, großer Teilemarkt und ein rasantes Rahmenprogramm. \nQuelle: Webseite https://www.retro-classics.de/de/
URL:https://mb300sl-motorsportclub.com/event/retro-classics-stuttgart/
LOCATION:Landesmesse Stuttgart\,  Messepiazza 1 \, Stuttgart\, 70629\, Deutschland
CATEGORIES:Messe
ATTACH;FMTTYPE=image/gif:https://mb300sl-motorsportclub.com/wp-content/uploads/2016/10/retro_classics.gif
END:VEVENT
BEGIN:VEVENT
DTSTART;VALUE=DATE:20250124
DTEND;VALUE=DATE:20250127
DTSTAMP:20260419T164905
CREATED:20240617T160534Z
LAST-MODIFIED:20240617T162912Z
UID:206-1737676800-1737935999@mb300sl-motorsportclub.com
SUMMARY:The International Concours of Elégance St. Moritz - The Ice 2025
DESCRIPTION:To mark the centenary of the sporting event\, in January 1985\, a group of British members of the competition\, led by Scotsman Keith Schellenberg\, celebrated the event by driving a few cars\, their Vintage Bentley tourers\, on the frozen lake for the first time. \nFor the famous auto-brand manager Marco Makaus\, who was present on that distant January day\, witnessing that scene was a revelation. \nThe image of those iconic vehicles standing out with their colourful liveries against the backdrop of the white expanse\, the counterpoint between the winter climate and the summer attitude of the open cars\, the contrast between the dynamism of the engines and the stillness of the glacial forms: all this fired his imagination and kindled in him the desire to replicate it\, to make it grow on a larger scale. \nWhat was at first only a vision became a goal\, the goal became a project and the project was shared\, proposed\, discussed. Over interminable decades\, local and international authorities discussed the possibility of making Makaus’ idea a reality. First the St. Moritz municipality and Badrutt’s Palace were enthusiastic about it and decided to support it. Then came the partners and sponsors and\, with them\, the decisive support. \nSource: Website https://theicestmoritz.ch/history/
URL:https://mb300sl-motorsportclub.com/event/the-international-concours-of-elegance-st-moritz-the-ice/
CATEGORIES:Concours d'Elégance
END:VEVENT
BEGIN:VEVENT
DTSTART;VALUE=DATE:20241011
DTEND;VALUE=DATE:20241014
DTSTAMP:20260419T164905
CREATED:20161013T133546Z
LAST-MODIFIED:20240617T162933Z
UID:132-1728604800-1728863999@mb300sl-motorsportclub.com
SUMMARY:Veterama Mannheim 2024
DESCRIPTION:Veterama ist der Name zweier Messen in Mannheim und Hockenheim. Die Veterama in Mannheim im Oktober ist Europas größter Ersatzteilmarkt für Oldtimer- und Youngtimer. Das Angebot reicht von Oldtimer-Ersatzteilen\, Werkzeugen\, Literatur\, Accessoires\, Spielzeug\, Technik bis hin zu Komplettfahrzeugen (Auto\, Nutzfahrzeug und Motorrad). Händler wie Aussteller reisen aus ganz Europa für diese Veranstaltung an. \nQuelle: Wikipedia https://www.veterama.de/
URL:https://mb300sl-motorsportclub.com/event/veterama-hockenheimring/
LOCATION:Hockenheimring\, Am Motodrom\, Hockenheim\, 68766 \, Deutschland
CATEGORIES:Messe
ATTACH;FMTTYPE=image/gif:https://mb300sl-motorsportclub.com/wp-content/uploads/2016/10/veterama.gif
END:VEVENT
BEGIN:VEVENT
DTSTART;VALUE=DATE:20240925
DTEND;VALUE=DATE:20240928
DTSTAMP:20260419T164905
CREATED:20240617T160816Z
LAST-MODIFIED:20240618T041533Z
UID:209-1727222400-1727481599@mb300sl-motorsportclub.com
SUMMARY:Internationale St. Moritzer Automobilwoche 2024
DESCRIPTION:Mobilitätsfestival\, bestehend aus mehreren eigenständigen Veranstaltungen\, wie Bernina Gran Turismo®\, Kilomètre Lancé®\, Super Stick Shift®\, St. Motor® und anderen.\n\n\nDie St. Moritzer Automobilwoche wurde in den letzten Jahren ausgehend vom Bergrennen BERNINA GRAN TURISMO® gebildet und besteht neben diesem aus verschiedenen eigenständigen und unabhängigen Events\, welche zusammen eine Plattform für historische Mobilität und Sammlerfahrzeuge bildet. Beginnend am 25.09. mit der SUPER STICK SHIFT® (einer Rallye für analoge Supersportfahrzeuge von Mitte der 1970er bis Mitte der 1990er Jahre)\, folgt vom 27.-28.09. der KILOMÈTRE LANCÉ ®(Beschleunigungsfahrten auf dem Engadin Airport in Samedan für Motorräder\, Automobile\, Traktoren und historisches Fluggerät) und ST. MOTOR® (eine elegante\, unaufgeregte automobile Gartenparty für Sammlerfahrzeuge aller Baujahre\, ehemals Motorsport Rendezvous). Die BERNINA GRAN TURISMO findet a 28. und 29.09. als «family & friends» mit einer Pässe Tour für alle bisherigen Teilnehmer\, sowie Freunde des historischen Bergrennens statt: ein automobiles Familientreffen des legendären Bergrennens im Engadin – sozusagen als Auftakt für unseren Jubiläums-Event «10th edition of BERNINA GRAN TURISMO»\, der 2025 wieder als gezeitetes Bergrennen auf abgesperrter Strecke durchgeführt wird. \n\nQuelle: Webseite https://www.stmoritz.com/directory/events/internationale-st-moritzer-automobilwoche?filters=stmoritz_events_only \n 
URL:https://mb300sl-motorsportclub.com/event/internationale-st-moritzer-automobilwoche-2024/
CATEGORIES:Rally
END:VEVENT
BEGIN:VEVENT
DTSTART;VALUE=DATE:20240913
DTEND;VALUE=DATE:20240916
DTSTAMP:20260419T164905
CREATED:20240618T032836Z
LAST-MODIFIED:20240618T041615Z
UID:256-1726185600-1726444799@mb300sl-motorsportclub.com
SUMMARY:St. Charles Classics - Die Schweizer See-Berg-Runde
DESCRIPTION:Wenn Träume Realität werden\nEine neue Klassik-Veranstaltung zu initiieren – die »Schweizer See-Berg-Runde«\, ein »Convenience«-Anlass mit drei Tour-Tagen für automobile Klassiker der idealerweise 50er bis 70er Jahre – ist solch ein Traum. Diese Klassik-Ausfahrt soll einmal als Initialzündung einer Reihe von Erlebnissen unter dem Logo der »St. Charles Classics« stehen. Und ganz wichtig: die Premiere sowie die folgenden Formate werden mehr sein als »nur eine weitere Oldtimer-Ausfahrt«. \nAuf dem Anwesen der »St. Charles Hall« in Meggen/CH\, einem Ort der Inspiration und besonderer Anlässe\, soll viel mehr entstehen: eine neue Begegnungsplattform für automobile Klassik-Enthusiasten/-innen\, für Unternehmer/-innen und Unternehmen\, für Menschen mit traditionellen Wertesystemen\, die nicht nur gemeinsam Schönes erleben wollen. Nein\, alle wollen mehr! Es geht darum\, gemeinsam einen Beitrag zu leisten\, das automobile Erbe für künftige Generationen zu bewahren und erlebbar zu halten. \nBegleiten Sie uns auf eine Reise durch die faszinierende Seen- und Bergwelt der Schweizer Alpen. Treffen Sie Mitstreiter/-innen dafür\, einen aktiven Beitrag leisten zu wollen\, um das Kulturgut Automobil zu bewahren\, die dafür benötigte Infrastruktur weiterzuführen und das benötigte Fachwissen weiter zu vermitteln. Es gibt viel zu tun – packen wir es gemeinsam an! \nWir freuen uns auf unvergessliche Momente!\nHochachtungsvoll Ihr \n\n\n\n\n\n\n\n\n\n\n\n \n\n\n\n\n\n\n\n\n\n\n\n\nKlaus Nesser \nQuelle: Webseite https://www.st-charles-classics.ch/
URL:https://mb300sl-motorsportclub.com/event/st-charles-classics-die-schweizer-see-berg-runde-13-15-september-2024/
CATEGORIES:Rally
END:VEVENT
BEGIN:VEVENT
DTSTART;VALUE=DATE:20240814
DTEND;VALUE=DATE:20240815
DTSTAMP:20260419T164905
CREATED:20240617T153155Z
LAST-MODIFIED:20240617T163010Z
UID:194-1723593600-1723679999@mb300sl-motorsportclub.com
SUMMARY:Zurich Classic Car Award - Concours d'Elégance
DESCRIPTION:Auserlesende Oldtimer auf dem Bürkliplatz in Zürich 2024\n\n\nMitten in Zürich treffen sich Oldtimer Besitzer auf dem Bürkliplatz\, um ihre schönsten Fahrzeuge auszustellen. Eine Auswahl aus rund 80 erlesenen Automobilen können bestaunt und bewertet werden. Vertreten sind Fahrzeuge und Marken aus der Vor- und Nachkriegszeit:  Luxusfahrzeuge und Sportwagen\, von diesen nur eine Handvoll entstanden sind\, sowie Autos\, die früher zum normalen Strassenbild gehörten. \nEine renommierte Jury aus der Automobilbranche wird gemeinsam mit dem Publikum verschiedene Klassen bewerten und auf dem Roten Teppich prämieren. \n\n\n\nDatum\n\n\nMittwoch\, 14. August 2024 \n\n\n\n\n\nZeitplan\n\n\n10:00 Uhr – Fahrerbriefing und Vorstellung der Jury\n09:00 bis 15:00 Uhr – Jury- und Publikumswertung\n14:30 bis 16:00 Uhr – Prämierung und Preisverleihung \n\nKlassensieger\nGewinner des Zurich Classic Car Awards\nPublikumspreisgewinner\nBest of Show\n\n\n\n\n\n\n\nKlasseneinteilung\n\n\n\nPrewar & Postwar – 1960\n1960-69 & 1970-79\nYoungtimer bis 2005\nBest of Show\nBest unrestored car\nPublic’s Favourite\nSonderkategorien\nAdd. categories/classes TBC\n\nQuelle: Webseite https://www.swisscarconcours.ch/zurich/event_klassen/
URL:https://mb300sl-motorsportclub.com/event/zurich-classic-car-award-concous-delegance/
CATEGORIES:Concours d'Elégance
END:VEVENT
END:VCALENDAR